BEGIN:VCALENDAR
VERSION:2.0
PRODID:icalendar-ruby
CALSCALE:GREGORIAN
METHOD:PUBLISH
BEGIN:VEVENT
DTSTAMP:20260424T105742Z
UID:87-1164691@gracehhi.org
DTSTART:20260518T220000Z
DTEND:20260518T230000Z
CLASS:PUBLIC
CREATED:20260421T040336
DESCRIPTION:Who is Jesus Christ? What does it mean to follow Him? While Jes
 us and his teaching continue to hold appeal\, many people question the pla
 usibility or relevance of the Christian faith. Is it reasonable to believe
  that Jesus was truly divine? If so\, what does it mean for us? Whether yo
 u’ve been a Christian for years or you’re curious about Christianity\,
  we invite you to come. All are welcome and encouraged to bring your frien
 ds. 
LAST-MODIFIED:20260421T040336
LOCATION:
SUMMARY:Basic Christianity
URL;VALUE=URI:https://gracehhi.org/events/basic-christianity/2026-05-18
ATTACH;FILENAME=71CnHmvcMnL._AC_UF10001000_QL80_.jpg;FMTTYPE=image/jpeg:htt
 ps://dq5pwpg1q8ru0.cloudfront.net/2026/04/21/08/03/35/954cdaab-0364-4fc8-a
 431-b1d0648c36c2/71CnHmvcMnL._AC_UF10001000_QL80_.jpg
END:VEVENT
END:VCALENDAR
