BEGIN:VCALENDAR
VERSION:2.0
PRODID:icalendar-ruby
CALSCALE:GREGORIAN
METHOD:PUBLISH
BEGIN:VEVENT
DTSTAMP:20260424T125402Z
UID:14-1184533@gracehhi.org
DTSTART:20261104T170000Z
DTEND:20261104T180000Z
CLASS:PUBLIC
CREATED:20260424T080804
DESCRIPTION:Men's ZOOM Prayer Group
LAST-MODIFIED:20260424T080804
LOCATION:ZOOM
SUMMARY:Men's Prayer Group
URL;VALUE=URI:https://gracehhi.org/events/mens-prayer-group/2026-11-04
ATTACH;FILENAME=ben-white-dKEbyzGxZgk-unsplash.jpg;FMTTYPE=image/jpeg:https
 ://dq5pwpg1q8ru0.cloudfront.net/2024/02/18/23/56/19/ca0ba84f-a254-4e8f-96b
 c-2d41d2462e45/ben-white-dKEbyzGxZgk-unsplash.jpg
END:VEVENT
END:VCALENDAR
